BEGIN:VCALENDAR
VERSION:2.0
PRODID:-//Southwell Baptist Church - ECPv6.3.5//NONSGML v1.0//EN
CALSCALE:GREGORIAN
METHOD:PUBLISH
X-ORIGINAL-URL:https://southwellbaptistchurch.co.uk
X-WR-CALDESC:Events for Southwell Baptist Church
REFRESH-INTERVAL;VALUE=DURATION:PT1H
X-Robots-Tag:noindex
X-PUBLISHED-TTL:PT1H
BEGIN:VTIMEZONE
TZID:Europe/London
BEGIN:DAYLIGHT
TZOFFSETFROM:+0000
TZOFFSETTO:+0100
TZNAME:BST
DTSTART:20260329T010000
END:DAYLIGHT
BEGIN:STANDARD
TZOFFSETFROM:+0100
TZOFFSETTO:+0000
TZNAME:GMT
DTSTART:20261025T010000
END:STANDARD
END:VTIMEZONE
BEGIN:VEVENT
DTSTART;TZID=Europe/London:20260104T103000
DTEND;TZID=Europe/London:20260104T120000
DTSTAMP:20260426T031655
CREATED:20260103T195642Z
LAST-MODIFIED:20260103T195642Z
UID:5131-1767522600-1767528000@southwellbaptistchurch.co.uk
SUMMARY:Covenant Service
DESCRIPTION:
URL:https://southwellbaptistchurch.co.uk/activity/covenant-service/
LOCATION:SBC\, Nottingham Road\, Southwell\, Nottinghamshire\, NG25 0LG\, United Kingdom
END:VEVENT
END:VCALENDAR