BEGIN:VCALENDAR
VERSION:2.0
PRODID:-//Southwell Baptist Church - ECPv6.3.5//NONSGML v1.0//EN
CALSCALE:GREGORIAN
METHOD:PUBLISH
X-ORIGINAL-URL:https://southwellbaptistchurch.co.uk
X-WR-CALDESC:Events for Southwell Baptist Church
REFRESH-INTERVAL;VALUE=DURATION:PT1H
X-Robots-Tag:noindex
X-PUBLISHED-TTL:PT1H
BEGIN:VTIMEZONE
TZID:UTC
BEGIN:STANDARD
TZOFFSETFROM:+0000
TZOFFSETTO:+0000
TZNAME:UTC
DTSTART:20190101T000000
END:STANDARD
END:VTIMEZONE
BEGIN:VEVENT
DTSTART;TZID=UTC:20191229T103000
DTEND;TZID=UTC:20191229T120000
DTSTAMP:20260423T072140
CREATED:20191221T223739Z
LAST-MODIFIED:20191221T223739Z
UID:776-1577615400-1577620800@southwellbaptistchurch.co.uk
SUMMARY:Sunday Morning Service
DESCRIPTION:
URL:https://southwellbaptistchurch.co.uk/activity/sunday-morning-service/
CATEGORIES:Weekly
END:VEVENT
END:VCALENDAR