BEGIN:VCALENDAR
VERSION:2.0
PRODID:-//Southwell Baptist Church - ECPv6.3.5//NONSGML v1.0//EN
CALSCALE:GREGORIAN
METHOD:PUBLISH
X-ORIGINAL-URL:https://southwellbaptistchurch.co.uk
X-WR-CALDESC:Events for Southwell Baptist Church
REFRESH-INTERVAL;VALUE=DURATION:PT1H
X-Robots-Tag:noindex
X-PUBLISHED-TTL:PT1H
BEGIN:VTIMEZONE
TZID:Europe/London
BEGIN:DAYLIGHT
TZOFFSETFROM:+0000
TZOFFSETTO:+0100
TZNAME:BST
DTSTART:20260329T010000
END:DAYLIGHT
BEGIN:STANDARD
TZOFFSETFROM:+0100
TZOFFSETTO:+0000
TZNAME:GMT
DTSTART:20261025T010000
END:STANDARD
END:VTIMEZONE
BEGIN:VEVENT
DTSTART;TZID=Europe/London:20260329T093000
DTEND;TZID=Europe/London:20260329T113000
DTSTAMP:20260425T221736
CREATED:20260302T130109Z
LAST-MODIFIED:20260302T130109Z
UID:5375-1774776600-1774783800@southwellbaptistchurch.co.uk
SUMMARY:Palm SUnday Procession & Cafe Church
DESCRIPTION:Palm Sunday Procession Last year we joined this and attended the Minster service following the walk. This year we propose that those who would like to join the procession\, starting at 9.30am at Our Lady of Victories\, do so but carry on to SBC where we will be holding our next café church. Those who prefer not to walk can then join us here for the usual 10.30am start.
URL:https://southwellbaptistchurch.co.uk/activity/palm-sunday-procession-cafe-church/
END:VEVENT
END:VCALENDAR